Package: MANOR Version: 1.71.0 Command: rm -rf MANOR.buildbin-libdir && mkdir MANOR.buildbin-libdir && F:\biocbuild\bbs-3.17-bioc\R\bin\R.exe CMD INSTALL --build --library=MANOR.buildbin-libdir MANOR_1.71.0.tar.gz StartedAt: 2022-12-29 05:20:34 -0500 (Thu, 29 Dec 2022) EndedAt: 2022-12-29 05:20:53 -0500 (Thu, 29 Dec 2022) EllapsedTime: 19.2 seconds RetCode: 0 Status: OK PackageFile: MANOR_1.71.0.zip PackageFileSize: 913 KiB