Package: MANOR Version: 1.71.0 Command: chmod a+r MANOR -R && F:\biocbuild\bbs-3.17-bioc\R\bin\R.exe CMD build --keep-empty-dirs --no-resave-data MANOR StartedAt: 2022-12-28 18:50:33 -0500 (Wed, 28 Dec 2022) EndedAt: 2022-12-28 18:51:32 -0500 (Wed, 28 Dec 2022) EllapsedTime: 59.7 seconds RetCode: 0 Status: OK PackageFile: MANOR_1.71.0.tar.gz PackageFileSize: 821.4 KiB