git_url: https://git.bioconductor.org/packages/MSstatsLiP git_branch: master git_last_commit: 2d5a019 git_last_commit_date: 2022-12-06 09:11:12 -0500 (Tue, 06 Dec 2022) Package: MSstatsLiP Version: 1.5.1 Maintainer: Devon Kohler MaintainerEmail: kohler.d at northeastern.edu