git_url: https://git.bioconductor.org/packages/RnBeads git_branch: master git_last_commit: 31d842d git_last_commit_date: 2022-11-01 11:11:37 -0500 (Tue, 01 Nov 2022) Package: RnBeads Version: 2.17.0 Maintainer: Fabian Mueller MaintainerEmail: team at rnbeads.org