Package: SingleCellExperiment Version: 1.21.0 Command: chmod a+r SingleCellExperiment -R && F:\biocbuild\bbs-3.17-bioc\R\bin\R.exe CMD build --keep-empty-dirs --no-resave-data SingleCellExperiment StartedAt: 2022-12-28 20:39:12 -0500 (Wed, 28 Dec 2022) EndedAt: 2022-12-28 20:40:25 -0500 (Wed, 28 Dec 2022) EllapsedTime: 72.4 seconds RetCode: 0 Status: OK PackageFile: SingleCellExperiment_1.21.0.tar.gz PackageFileSize: 917.8 KiB