Package: TrajectoryGeometry Version: 1.7.0 Command: rm -rf TrajectoryGeometry.buildbin-libdir && mkdir TrajectoryGeometry.buildbin-libdir && F:\biocbuild\bbs-3.17-bioc\R\bin\R.exe CMD INSTALL --build --library=TrajectoryGeometry.buildbin-libdir TrajectoryGeometry_1.7.0.tar.gz StartedAt: 2022-12-29 05:52:05 -0500 (Thu, 29 Dec 2022) EndedAt: 2022-12-29 05:52:24 -0500 (Thu, 29 Dec 2022) EllapsedTime: 19.2 seconds RetCode: 0 Status: OK PackageFile: TrajectoryGeometry_1.7.0.zip PackageFileSize: 1.214 MiB