Package: TrajectoryGeometry Version: 1.7.0 Command: F:\biocbuild\bbs-3.17-bioc\R\bin\R.exe CMD INSTALL TrajectoryGeometry StartedAt: 2022-12-28 15:58:06 -0500 (Wed, 28 Dec 2022) EndedAt: 2022-12-28 15:58:15 -0500 (Wed, 28 Dec 2022) EllapsedTime: 9.3 seconds RetCode: 0 Status: OK