git_url: https://git.bioconductor.org/packages/esetVis git_branch: master git_last_commit: e7ebb2d git_last_commit_date: 2022-11-01 11:13:55 -0500 (Tue, 01 Nov 2022) Package: esetVis Version: 1.25.0 Maintainer: Laure Cougnaud MaintainerEmail: laure.cougnaud at openanalytics.eu