Package: fabia Version: 2.45.0 Command: rm -rf fabia.buildbin-libdir && mkdir fabia.buildbin-libdir && F:\biocbuild\bbs-3.17-bioc\R\bin\R.exe CMD INSTALL --build --library=fabia.buildbin-libdir fabia_2.45.0.tar.gz StartedAt: 2022-12-29 05:08:17 -0500 (Thu, 29 Dec 2022) EndedAt: 2022-12-29 05:08:37 -0500 (Thu, 29 Dec 2022) EllapsedTime: 20.0 seconds RetCode: 0 Status: OK PackageFile: fabia_2.45.0.zip PackageFileSize: 1.105 MiB