Package: fabia Version: 2.45.0 Command: F:\biocbuild\bbs-3.17-bioc\R\bin\R.exe CMD INSTALL fabia StartedAt: 2022-12-28 15:27:43 -0500 (Wed, 28 Dec 2022) EndedAt: 2022-12-28 15:28:13 -0500 (Wed, 28 Dec 2022) EllapsedTime: 29.3 seconds RetCode: 0 Status: OK