Package: flowClean Version: 1.37.0 Command: F:\biocbuild\bbs-3.17-bioc\R\bin\R.exe CMD INSTALL flowClean StartedAt: 2022-12-28 15:32:55 -0500 (Wed, 28 Dec 2022) EndedAt: 2022-12-28 15:33:14 -0500 (Wed, 28 Dec 2022) EllapsedTime: 18.1 seconds RetCode: 0 Status: OK