Package: flowClust Version: 3.37.0 Command: F:\biocbuild\bbs-3.17-bioc\R\bin\R.exe CMD INSTALL flowClust StartedAt: 2022-12-28 15:32:23 -0500 (Wed, 28 Dec 2022) EndedAt: 2022-12-28 15:32:49 -0500 (Wed, 28 Dec 2022) EllapsedTime: 26.7 seconds RetCode: 0 Status: OK