git_url: https://git.bioconductor.org/packages/genefu git_branch: master git_last_commit: 1610657 git_last_commit_date: 2022-11-01 11:05:46 -0500 (Tue, 01 Nov 2022) Package: genefu Version: 2.31.0 Maintainer: Benjamin Haibe-Kains MaintainerEmail: benjamin.haibe.kains at utoronto.ca