Package: geneplast Version: 1.25.0 Command: chmod a+r geneplast -R && F:\biocbuild\bbs-3.17-bioc\R\bin\R.exe CMD build --keep-empty-dirs --no-resave-data geneplast StartedAt: 2022-12-28 18:16:19 -0500 (Wed, 28 Dec 2022) EndedAt: 2022-12-28 18:16:53 -0500 (Wed, 28 Dec 2022) EllapsedTime: 34.0 seconds RetCode: 0 Status: OK PackageFile: geneplast_1.25.0.tar.gz PackageFileSize: 6.507 MiB