Package: goProfiles Version: 1.61.0 Command: chmod a+r goProfiles -R && F:\biocbuild\bbs-3.17-bioc\R\bin\R.exe CMD build --keep-empty-dirs --no-resave-data goProfiles StartedAt: 2022-12-28 18:24:53 -0500 (Wed, 28 Dec 2022) EndedAt: 2022-12-28 18:25:34 -0500 (Wed, 28 Dec 2022) EllapsedTime: 40.4 seconds RetCode: 0 Status: OK PackageFile: goProfiles_1.61.0.tar.gz PackageFileSize: 288.8 KiB