Package: intansv Version: 1.39.0 Command: rm -rf intansv.buildbin-libdir && mkdir intansv.buildbin-libdir && F:\biocbuild\bbs-3.17-bioc\R\bin\R.exe CMD INSTALL --build --library=intansv.buildbin-libdir intansv_1.39.0.tar.gz StartedAt: 2022-12-29 05:17:23 -0500 (Thu, 29 Dec 2022) EndedAt: 2022-12-29 05:18:16 -0500 (Thu, 29 Dec 2022) EllapsedTime: 53.6 seconds RetCode: 0 Status: OK PackageFile: intansv_1.39.0.zip PackageFileSize: 701.4 KiB