git_url: https://git.bioconductor.org/packages/mgsa git_branch: master git_last_commit: 2d514bf git_last_commit_date: 2022-11-01 11:05:30 -0500 (Tue, 01 Nov 2022) Package: mgsa Version: 1.47.0 Maintainer: Sebastian Bauer MaintainerEmail: mail at sebastianbauer.info