Package: monaLisa Version: 1.5.0 Command: rm -rf monaLisa.buildbin-libdir && mkdir monaLisa.buildbin-libdir && F:\biocbuild\bbs-3.17-bioc\R\bin\R.exe CMD INSTALL --build --library=monaLisa.buildbin-libdir monaLisa_1.5.0.tar.gz StartedAt: 2022-12-29 05:25:08 -0500 (Thu, 29 Dec 2022) EndedAt: 2022-12-29 05:25:54 -0500 (Thu, 29 Dec 2022) EllapsedTime: 46.1 seconds RetCode: 0 Status: OK PackageFile: monaLisa_1.5.0.zip PackageFileSize: 4.347 MiB