git_url: https://git.bioconductor.org/packages/mygene git_branch: master git_last_commit: 74629ad git_last_commit_date: 2022-11-01 11:10:45 -0500 (Tue, 01 Nov 2022) Package: mygene Version: 1.35.0 Maintainer: Adam Mark, Cyrus Afrasiabi, Chunlei Wu MaintainerEmail: cwu at scripps.edu