git_url: https://git.bioconductor.org/packages/nearBynding git_branch: master git_last_commit: 363a190 git_last_commit_date: 2022-11-01 11:22:51 -0500 (Tue, 01 Nov 2022) Package: nearBynding Version: 1.9.0 Maintainer: Veronica Busa MaintainerEmail: vbusa1 at jhmi.edu