Package: netZooR Version: 1.3.1 Command: rm -rf netZooR.buildbin-libdir && mkdir netZooR.buildbin-libdir && F:\biocbuild\bbs-3.17-bioc\R\bin\R.exe CMD INSTALL --build --library=netZooR.buildbin-libdir netZooR_1.3.1.tar.gz StartedAt: 2022-12-29 05:28:14 -0500 (Thu, 29 Dec 2022) EndedAt: 2022-12-29 05:29:11 -0500 (Thu, 29 Dec 2022) EllapsedTime: 57.6 seconds RetCode: 0 Status: OK PackageFile: netZooR_1.3.1.zip PackageFileSize: 3.565 MiB