git_url: https://git.bioconductor.org/packages/pcxn git_branch: master git_last_commit: 4d06cf9 git_last_commit_date: 2022-11-01 11:16:41 -0500 (Tue, 01 Nov 2022) Package: pcxn Version: 2.21.0 Maintainer: Sokratis Kariotis MaintainerEmail: s.kariotis at sheffield.ac.uk