Package: pcxn Version: 2.21.0 Command: rm -rf pcxn.buildbin-libdir && mkdir pcxn.buildbin-libdir && F:\biocbuild\bbs-3.17-bioc\R\bin\R.exe CMD INSTALL --build --library=pcxn.buildbin-libdir pcxn_2.21.0.tar.gz StartedAt: 2022-12-29 05:31:19 -0500 (Thu, 29 Dec 2022) EndedAt: 2022-12-29 05:31:31 -0500 (Thu, 29 Dec 2022) EllapsedTime: 12.8 seconds RetCode: 0 Status: OK PackageFile: pcxn_2.21.0.zip PackageFileSize: 106.6 KiB