git_url: https://git.bioconductor.org/packages/plier git_branch: master git_last_commit: 0e34d0e git_last_commit_date: 2022-11-01 10:38:35 -0500 (Tue, 01 Nov 2022) Package: plier Version: 1.69.0 Maintainer: Crispin Miller MaintainerEmail: cmiller at picr.man.ac.uk