git_url: https://git.bioconductor.org/packages/regioneReloaded git_branch: master git_last_commit: 5a5ce9d git_last_commit_date: 2022-11-01 11:27:27 -0500 (Tue, 01 Nov 2022) Package: regioneReloaded Version: 1.1.0 Maintainer: Roberto Malinverni MaintainerEmail: roberto.malinverni at gmail.com