Package: regioneReloaded Version: 1.1.0 Command: F:\biocbuild\bbs-3.17-bioc\R\bin\R.exe CMD INSTALL regioneReloaded StartedAt: 2022-12-28 15:55:06 -0500 (Wed, 28 Dec 2022) EndedAt: 2022-12-28 15:55:47 -0500 (Wed, 28 Dec 2022) EllapsedTime: 41.5 seconds RetCode: 0 Status: OK