Package: scifer Version: 1.1.0 Command: chmod a+r scifer -R && F:\biocbuild\bbs-3.17-bioc\R\bin\R.exe CMD build --keep-empty-dirs --no-resave-data scifer StartedAt: 2022-12-28 20:26:28 -0500 (Wed, 28 Dec 2022) EndedAt: 2022-12-28 20:28:01 -0500 (Wed, 28 Dec 2022) EllapsedTime: 93.0 seconds RetCode: 0 Status: OK PackageFile: scifer_1.1.0.tar.gz PackageFileSize: 2.061 MiB