Package: scifer Version: 1.1.0 Command: F:\biocbuild\bbs-3.17-bioc\R\bin\R.exe CMD INSTALL scifer StartedAt: 2022-12-28 16:02:20 -0500 (Wed, 28 Dec 2022) EndedAt: 2022-12-28 16:02:36 -0500 (Wed, 28 Dec 2022) EllapsedTime: 16.2 seconds RetCode: 0 Status: OK