Package: shinyMethyl Version: 1.35.7 Command: F:\biocbuild\bbs-3.17-bioc\R\bin\R.exe CMD INSTALL shinyMethyl StartedAt: 2022-12-28 16:24:28 -0500 (Wed, 28 Dec 2022) EndedAt: 2022-12-28 16:25:14 -0500 (Wed, 28 Dec 2022) EllapsedTime: 46.0 seconds RetCode: 0 Status: OK