Package: spatialDE Version: 1.5.0 Command: rm -rf spatialDE.buildbin-libdir && mkdir spatialDE.buildbin-libdir && F:\biocbuild\bbs-3.17-bioc\R\bin\R.exe CMD INSTALL --build --library=spatialDE.buildbin-libdir spatialDE_1.5.0.tar.gz StartedAt: 2022-12-29 05:47:30 -0500 (Thu, 29 Dec 2022) EndedAt: 2022-12-29 05:47:55 -0500 (Thu, 29 Dec 2022) EllapsedTime: 25.4 seconds RetCode: 0 Status: OK PackageFile: spatialDE_1.5.0.zip PackageFileSize: 2.154 MiB