Package: spatialDE Version: 1.5.0 Command: chmod a+r spatialDE -R && F:\biocbuild\bbs-3.17-bioc\R\bin\R.exe CMD build --keep-empty-dirs --no-resave-data spatialDE StartedAt: 2022-12-28 20:44:43 -0500 (Wed, 28 Dec 2022) EndedAt: 2022-12-28 20:46:36 -0500 (Wed, 28 Dec 2022) EllapsedTime: 113.4 seconds RetCode: 0 Status: OK PackageFile: spatialDE_1.5.0.tar.gz PackageFileSize: 2.088 MiB