Package: spatialDE Version: 1.5.0 Command: F:\biocbuild\bbs-3.17-bioc\R\bin\R.exe CMD INSTALL spatialDE StartedAt: 2022-12-28 16:01:17 -0500 (Wed, 28 Dec 2022) EndedAt: 2022-12-28 16:01:40 -0500 (Wed, 28 Dec 2022) EllapsedTime: 22.3 seconds RetCode: 0 Status: OK