Package: survcomp Version: 1.49.0 Command: rm -rf survcomp.buildbin-libdir && mkdir survcomp.buildbin-libdir && F:\biocbuild\bbs-3.17-bioc\R\bin\R.exe CMD INSTALL --build --library=survcomp.buildbin-libdir survcomp_1.49.0.tar.gz StartedAt: 2022-12-29 05:49:43 -0500 (Thu, 29 Dec 2022) EndedAt: 2022-12-29 05:49:59 -0500 (Thu, 29 Dec 2022) EllapsedTime: 16.0 seconds RetCode: 0 Status: OK PackageFile: survcomp_1.49.0.zip PackageFileSize: 1.075 MiB