Package: survcomp Version: 1.49.0 Command: F:\biocbuild\bbs-3.17-bioc\R\bin\R.exe CMD check --no-multiarch --install=check:survcomp.install-out.txt --library=F:\biocbuild\bbs-3.17-bioc\R\library --no-vignettes --timings survcomp_1.49.0.tar.gz StartedAt: 2022-12-29 04:03:07 -0500 (Thu, 29 Dec 2022) EndedAt: 2022-12-29 04:04:20 -0500 (Thu, 29 Dec 2022) EllapsedTime: 73.2 seconds RetCode: 0 Status: WARNINGS CheckDir: survcomp.Rcheck Warnings: 1