Package: swfdr Version: 1.25.0 Command: F:\biocbuild\bbs-3.17-bioc\R\bin\R.exe CMD check --no-multiarch --install=check:swfdr.install-out.txt --library=F:\biocbuild\bbs-3.17-bioc\R\library --no-vignettes --timings swfdr_1.25.0.tar.gz StartedAt: 2022-12-29 04:04:36 -0500 (Thu, 29 Dec 2022) EndedAt: 2022-12-29 04:05:08 -0500 (Thu, 29 Dec 2022) EllapsedTime: 31.9 seconds RetCode: 0 Status: WARNINGS CheckDir: swfdr.Rcheck Warnings: 1