git_url: https://git.bioconductor.org/packages/ttgsea git_branch: master git_last_commit: 613ab29 git_last_commit_date: 2022-11-12 01:55:59 -0500 (Sat, 12 Nov 2022) Package: ttgsea Version: 1.7.1 Maintainer: Dongmin Jung MaintainerEmail: dmdmjung at gmail.com