Package: OSCA.advanced Version: 1.8.1 Command: /home/biocbuild/bbs-3.17-bioc/R/bin/R CMD build --keep-empty-dirs --no-resave-data OSCA.advanced StartedAt: 2023-10-16 07:01:56 -0400 (Mon, 16 Oct 2023) EndedAt: 2023-10-16 09:45:14 -0400 (Mon, 16 Oct 2023) EllapsedTime: 9797.8 seconds RetCode: 0 Status: OK PackageFile: OSCA.advanced_1.8.1.tar.gz PackageFileSize: 20.09 MiB