Package: Affyhgu133Plus2Expr Version: 1.34.0 Command: /home/biocbuild/bbs-3.17-bioc/R/bin/R CMD build --keep-empty-dirs --no-resave-data Affyhgu133Plus2Expr StartedAt: 2023-10-12 10:13:22 -0400 (Thu, 12 Oct 2023) EndedAt: 2023-10-12 10:13:40 -0400 (Thu, 12 Oct 2023) EllapsedTime: 18.6 seconds RetCode: 0 Status: OK PackageFile: Affyhgu133Plus2Expr_1.34.0.tar.gz PackageFileSize: 224.4 MiB