git_url: https://git.bioconductor.org/packages/CardinalWorkflows git_branch: RELEASE_3_17 git_last_commit: ebfa9f4 git_last_commit_date: 2023-04-25 10:37:34 -0400 (Tue, 25 Apr 2023) Package: CardinalWorkflows Version: 1.32.0 Maintainer: Kylie A. Bemis MaintainerEmail: k.bemis at northeastern.edu