Package: CardinalWorkflows Version: 1.32.0 Command: /home/biocbuild/bbs-3.17-bioc/R/bin/R CMD build --keep-empty-dirs --no-resave-data CardinalWorkflows StartedAt: 2023-10-12 10:15:15 -0400 (Thu, 12 Oct 2023) EndedAt: 2023-10-12 10:24:29 -0400 (Thu, 12 Oct 2023) EllapsedTime: 553.8 seconds RetCode: 0 Status: OK PackageFile: CardinalWorkflows_1.32.0.tar.gz PackageFileSize: 145 MiB