Package: CardinalWorkflows Version: 1.32.0 Command: /home/biocbuild/bbs-3.17-bioc/R/bin/R CMD INSTALL CardinalWorkflows StartedAt: 2023-10-12 10:05:08 -0400 (Thu, 12 Oct 2023) EndedAt: 2023-10-12 10:05:19 -0400 (Thu, 12 Oct 2023) EllapsedTime: 10.8 seconds RetCode: 0 Status: OK