Package: CopyhelpeR Version: 1.32.0 Command: /home/biocbuild/bbs-3.17-bioc/R/bin/R CMD build --keep-empty-dirs --no-resave-data CopyhelpeR StartedAt: 2023-10-12 10:19:14 -0400 (Thu, 12 Oct 2023) EndedAt: 2023-10-12 10:19:21 -0400 (Thu, 12 Oct 2023) EllapsedTime: 7.0 seconds RetCode: 0 Status: OK PackageFile: CopyhelpeR_1.32.0.tar.gz PackageFileSize: 42.66 MiB