Package: CopyhelpeR Version: 1.32.0 Command: /home/biocbuild/bbs-3.17-bioc/R/bin/R CMD check --install=check:CopyhelpeR.install-out.txt --library=/home/biocbuild/bbs-3.17-bioc/R/site-library --timings CopyhelpeR_1.32.0.tar.gz StartedAt: 2023-10-12 11:08:43 -0400 (Thu, 12 Oct 2023) EndedAt: 2023-10-12 11:09:00 -0400 (Thu, 12 Oct 2023) EllapsedTime: 17.0 seconds RetCode: 0 Status: OK CheckDir: CopyhelpeR.Rcheck Warnings: 0