git_url: https://git.bioconductor.org/packages/HarmanData git_branch: RELEASE_3_17 git_last_commit: 62386a4 git_last_commit_date: 2023-04-25 10:42:19 -0400 (Tue, 25 Apr 2023) Package: HarmanData Version: 1.28.0 Maintainer: Jason Ross MaintainerEmail: jason.ross at csiro.au