Package: HarmanData Version: 1.28.0 Command: /home/biocbuild/bbs-3.17-bioc/R/bin/R CMD check --install=check:HarmanData.install-out.txt --library=/home/biocbuild/bbs-3.17-bioc/R/site-library --timings HarmanData_1.28.0.tar.gz StartedAt: 2023-10-12 11:28:03 -0400 (Thu, 12 Oct 2023) EndedAt: 2023-10-12 11:28:33 -0400 (Thu, 12 Oct 2023) EllapsedTime: 30.6 seconds RetCode: 0 Status: OK CheckDir: HarmanData.Rcheck Warnings: 0