git_url: https://git.bioconductor.org/packages/HiCDataHumanIMR90 git_branch: RELEASE_3_17 git_last_commit: 5e33954 git_last_commit_date: 2023-04-25 10:36:31 -0400 (Tue, 25 Apr 2023) Package: HiCDataHumanIMR90 Version: 1.20.0 Maintainer: Nicolas Servant MaintainerEmail: Nicolas.Servant at curie.fr