Package: HiCDataHumanIMR90 Version: 1.20.0 Command: /home/biocbuild/bbs-3.17-bioc/R/bin/R CMD build --keep-empty-dirs --no-resave-data HiCDataHumanIMR90 StartedAt: 2023-10-12 10:33:28 -0400 (Thu, 12 Oct 2023) EndedAt: 2023-10-12 10:34:14 -0400 (Thu, 12 Oct 2023) EllapsedTime: 46.6 seconds RetCode: 0 Status: OK PackageFile: HiCDataHumanIMR90_1.20.0.tar.gz PackageFileSize: 70.63 MiB