git_url: https://git.bioconductor.org/packages/IHWpaper git_branch: RELEASE_3_17 git_last_commit: 3ce77a6 git_last_commit_date: 2023-04-25 10:42:31 -0400 (Tue, 25 Apr 2023) Package: IHWpaper Version: 1.28.0 Maintainer: Nikos Ignatiadis MaintainerEmail: nikos.ignatiadis01 at gmail.com