Package: MouseGastrulationData Version: 1.14.0 Command: /home/biocbuild/bbs-3.17-bioc/R/bin/R CMD check --install=check:MouseGastrulationData.install-out.txt --library=/home/biocbuild/bbs-3.17-bioc/R/site-library --timings MouseGastrulationData_1.14.0.tar.gz StartedAt: 2023-10-12 11:43:58 -0400 (Thu, 12 Oct 2023) EndedAt: 2023-10-12 11:50:19 -0400 (Thu, 12 Oct 2023) EllapsedTime: 381.1 seconds RetCode: 0 Status: OK CheckDir: MouseGastrulationData.Rcheck Warnings: 0