Package: MouseGastrulationData Version: 1.14.0 Command: /home/biocbuild/bbs-3.17-bioc/R/bin/R CMD INSTALL MouseGastrulationData StartedAt: 2023-10-12 10:11:43 -0400 (Thu, 12 Oct 2023) EndedAt: 2023-10-12 10:12:15 -0400 (Thu, 12 Oct 2023) EllapsedTime: 32.8 seconds RetCode: 0 Status: OK